BEGIN:VCALENDAR
VERSION:2.0
PRODID:-//Arc Broward - ECPv6.15.20//NONSGML v1.0//EN
CALSCALE:GREGORIAN
METHOD:PUBLISH
X-ORIGINAL-URL:https://arcbroward.com
X-WR-CALDESC:Events for Arc Broward
REFRESH-INTERVAL;VALUE=DURATION:PT1H
X-Robots-Tag:noindex
X-PUBLISHED-TTL:PT1H
BEGIN:VTIMEZONE
TZID:America/New_York
BEGIN:DAYLIGHT
TZOFFSETFROM:-0500
TZOFFSETTO:-0400
TZNAME:EDT
DTSTART:20240310T070000
END:DAYLIGHT
BEGIN:STANDARD
TZOFFSETFROM:-0400
TZOFFSETTO:-0500
TZNAME:EST
DTSTART:20241103T060000
END:STANDARD
BEGIN:DAYLIGHT
TZOFFSETFROM:-0500
TZOFFSETTO:-0400
TZNAME:EDT
DTSTART:20250309T070000
END:DAYLIGHT
BEGIN:STANDARD
TZOFFSETFROM:-0400
TZOFFSETTO:-0500
TZNAME:EST
DTSTART:20251102T060000
END:STANDARD
BEGIN:DAYLIGHT
TZOFFSETFROM:-0500
TZOFFSETTO:-0400
TZNAME:EDT
DTSTART:20260308T070000
END:DAYLIGHT
BEGIN:STANDARD
TZOFFSETFROM:-0400
TZOFFSETTO:-0500
TZNAME:EST
DTSTART:20261101T060000
END:STANDARD
END:VTIMEZONE
BEGIN:VEVENT
DTSTART;TZID=America/New_York:20250603T130000
DTEND;TZID=America/New_York:20250603T160000
DTSTAMP:20260419T081722
CREATED:20250102T170630Z
LAST-MODIFIED:20250410T185205Z
UID:10000329-1748955600-1748966400@arcbroward.com
SUMMARY:Coaching the Van Driver –CVD
DESCRIPTION:Event Summary\n\nDriving accidents are the number one cause of accidental deaths in America. Drivers need to understand the dangers while driving the Florida roads and the difference between driving your personal vehicle and a van. This defensive driving workshop is endorsed by the National Safety Council and presented through video\, interactive discussion and lecture.\n If you or your organization has to transport individuals on the road\, this class is for you!\nTopics covered include:\n\nDefensive driving skills\nHow to prevent and avoid collisions\nTransporting passengers\nTips on van inspection\nReview documentation necessary to ensure continued safety of passengers\n\n* This is compliance training; therefore\, a road test is not included.
URL:https://arcbroward.com/event/coaching-the-van-driver-cvd-10/
LOCATION:Arc Broward\, 10250 NW 53 Street\, Sunrise\, FL\, 33351\, United States
CATEGORIES:Agency for Persons with Disabilities,Health & Safety Programs,Professional Training,Program Events,Trainings
ATTACH;FMTTYPE=image/png:https://arcbroward.com/wp-content/uploads/2023/10/unnamed.png
ORGANIZER;CN="Heather Burton":MAILTO:hburton@arcbroward.com
END:VEVENT
BEGIN:VEVENT
DTSTART;TZID=America/New_York:20250605T090000
DTEND;TZID=America/New_York:20250605T113000
DTSTAMP:20260419T081722
CREATED:20241231T192058Z
LAST-MODIFIED:20250410T183604Z
UID:10000306-1749114000-1749123000@arcbroward.com
SUMMARY:HIV/AIDS & BBP
DESCRIPTION:Event Summary\n\nDid you know Broward County has the most new diagnosed AIDS cases per day in ALL of America? With statistic like this\, it’s vital to get the most up to date information on HIV/AIDS and learn how to prevent and protect yourself. Topics Covered Include: \nASHI Modules \n\nOSHA Bloodborne Pathogens Standard\nSpecific Bloodborne Pathogens\nHepatitis B Immunization\nYour Company’s Exposure Control Plan\nTransmitting Bloodborne Pathogens\nMethods to Control the Risks of Exposure\nWhen an Exposure Occurs\nHousekeeping\n\nHIV/AIDS Florida Health Video \n\nImmunology\nTransmission\nTesting\nSymptoms\nPrevention
URL:https://arcbroward.com/event/hiv-aids-bbp-19/
LOCATION:Arc Broward\, 10250 NW 53 Street\, Sunrise\, FL\, 33351\, United States
CATEGORIES:Health & Safety Programs,Professional Training,Program Events,Trainings
ATTACH;FMTTYPE=image/png:https://arcbroward.com/wp-content/uploads/2023/10/unnamed.png
ORGANIZER;CN="Heather Burton":MAILTO:hburton@arcbroward.com
END:VEVENT
BEGIN:VEVENT
DTSTART;TZID=America/New_York:20250605T103000
DTEND;TZID=America/New_York:20250605T111500
DTSTAMP:20260419T081722
CREATED:20241231T203919Z
LAST-MODIFIED:20250410T185657Z
UID:10000314-1749119400-1749122100@arcbroward.com
SUMMARY:Cultural Competency
DESCRIPTION:The goal of this training is to create awareness\, increase sensitivity\, and promote personal reflection of the importance of diversity competency (defined as the ability of individuals and systems to respond respectfully and effectively to individuals\, families and communities of all diverse backgrounds). This training increases awareness of the kinds of beliefs\, attitudes\, values\, and practices that promote diversity competency.
URL:https://arcbroward.com/event/cultural-competency-19/
LOCATION:Arc Broward\, 10250 NW 53 Street\, Sunrise\, FL\, 33351\, United States
CATEGORIES:Professional Crisis Management,Professional Training,Trainings
ATTACH;FMTTYPE=image/png:https://arcbroward.com/wp-content/uploads/2023/10/unnamed.png
ORGANIZER;CN="Heather Burton":MAILTO:hburton@arcbroward.com
END:VEVENT
BEGIN:VEVENT
DTSTART;TZID=America/New_York:20250609T083000
DTEND;TZID=America/New_York:20250611T170000
DTSTAMP:20260419T081722
CREATED:20241119T185348Z
LAST-MODIFIED:20250519T170114Z
UID:10000271-1749457800-1749661200@arcbroward.com
SUMMARY:Professional Crisis Management (PCM) Initial 3 Day Training (Moved to June 16-18)
DESCRIPTION:Event Summary\n\nProfessional Crisis Management (PCM) offers a complete crisis management system made up of prevention\, de-escalation\, crisis intervention\, and reintegration that perfectly aligns with the core principles of Trauma Informed Care. This means PCM’s curriculum\, instruction\, guiding principles\, and procedures directly aid in fostering an environment characterized by safety\, trust\, peer support\, collaboration\, empowerment\, and respect. This 3-day training covers everything you need to become PCM certified as Practitioner Level\, Level-1 practitioner\, and Level-2 practitioner.  Just let the instructor know which level you would like to be certified in. \nProfessional Crisis Management Association (PCMA) used their experience as Clinicians to create the  ONLY training program that is FULLY based on  Applied Behavior Analysis!\n\n\n\n\n\n\n\n\n\n\n\nPractical\, Accessible Behavior Science\n\n\nCreate safe and positive learning environments\, even during a crisis.\n\n\n\nThe proven best choice for: \n\n\n\n\n\n\n\n\nEducation\nSpecial Education\nTreatment Facilities\nDay Treatment\n\n\n\n\n\n\n\n\nASD & ABA Clinics\nFoster Care\nICF’s\nJuvenile Justice\n\n\nThe following elements make Professional Crisis Management unique: \n\n Prevention Focused\nBased on true Behavior Science\nTrauma Informed\nPerfectly Aliened with PBIS
URL:https://arcbroward.com/event/professional-crisis-management-pcm-initial-3-day-training-11/
LOCATION:Arc Broward\, 10250 NW 53 Street\, Sunrise\, FL\, 33351\, United States
CATEGORIES:Professional Crisis Management,Professional Training,Program Events,Trainings
ATTACH;FMTTYPE=image/png:https://arcbroward.com/wp-content/uploads/2023/10/unnamed.png
ORGANIZER;CN="Heather Burton":MAILTO:hburton@arcbroward.com
END:VEVENT
BEGIN:VEVENT
DTSTART;TZID=America/New_York:20250620T090000
DTEND;TZID=America/New_York:20250620T120000
DTSTAMP:20260419T081722
CREATED:20241231T180955Z
LAST-MODIFIED:20241231T181121Z
UID:10000296-1750410000-1750420800@arcbroward.com
SUMMARY:CPR/AED by ASHI
DESCRIPTION:Event Summary\n\nKnowing CPR is a must for ALL! This hands-on course\, developed by the ASHI and updated by Health and Safety Institute (HSI)\, prepares participants to respond to cardiac and respiratory emergencies in adults\, children and infants. Participants are guided through an interactive video\, have class room instruction\, and practical application of procedures on appropriately sized manikins.
URL:https://arcbroward.com/event/cpr-aed-by-ashi-33/
LOCATION:Arc Broward\, 10250 NW 53 Street\, Sunrise\, FL\, 33351\, United States
CATEGORIES:Health & Safety Programs,Professional Training,Program Events,Trainings
ATTACH;FMTTYPE=image/png:https://arcbroward.com/wp-content/uploads/2023/10/unnamed.png
ORGANIZER;CN="Heather Burton":MAILTO:hburton@arcbroward.com
END:VEVENT
BEGIN:VEVENT
DTSTART;TZID=America/New_York:20250620T130000
DTEND;TZID=America/New_York:20250620T160000
DTSTAMP:20260419T081722
CREATED:20241231T182929Z
LAST-MODIFIED:20241231T182929Z
UID:10000302-1750424400-1750435200@arcbroward.com
SUMMARY:First Aid and Universal Precautions
DESCRIPTION:Event Summary\n\nThis intensive workshop is ideal for those who are employed in the healthcare industry or parents seeking additional information on how to respond to medical emergencies such as bleeding\, burns\, bites\, heart attacks\, stroke\, seizures\, etc. This workshop also covers universal precautions. \n5 Reasons Why You Should Learn First-Aid: \nHere are five reasons why you should learn first-aid: \n\n\n\nIt not only saves lives but saves recovery time. Giving proper first aid immediately can help to reduce a person’s recovery time.\nHelp increase comfort in a person who has been injured. By knowing how to act even just with simple techniques such as applying an ice pack correctly\, or applying appropriate bandaging\, you’ll help to relieve the discomfort in a person who has been injured.\nYou can prevent a situation from getting worse. By being able to provide basic care you can stabilize a person who has been injured until emergency services arrive (if the situation requires medical services).\nConfidence. First aid training makes you more confident and comfortable allowing you to be more effective when responding to a situation.\nSafe and healthy living. Keeping yourself safe puts you in a position to help others.
URL:https://arcbroward.com/event/first-aid-and-universal-precautions-21/
LOCATION:Arc Broward\, 10250 NW 53 Street\, Sunrise\, FL\, 33351\, United States
CATEGORIES:Health & Safety Programs,Professional Training,Program Events,Trainings
ATTACH;FMTTYPE=image/png:https://arcbroward.com/wp-content/uploads/2023/10/unnamed.png
ORGANIZER;CN="Heather Burton":MAILTO:hburton@arcbroward.com
END:VEVENT
BEGIN:VEVENT
DTSTART;TZID=America/New_York:20250621T090000
DTEND;TZID=America/New_York:20250621T161500
DTSTAMP:20260419T081722
CREATED:20250115T191206Z
LAST-MODIFIED:20250619T190554Z
UID:10000352-1750496400-1750522500@arcbroward.com
SUMMARY:Registered Behavior Technician Course (40 hour) In-Person/Zoom
DESCRIPTION:Event Summary \nClass hours are from 9:00am to 4:15pm on each of the following Saturdays with a working lunch. You must attend all classes to meet the 40-hour BACB Requirements for training certificate.\nSix(6) Saturdays through out June\, July and August 2025. \nClass dates are:\nJune 21\, 28\, July 12\, 19\, 26\, August 2\, 2025 \nRegistration Cost: $425 until May 30th then $450…. NO REFUNDS \nPackage includes lecture notes\, 1 mock exam\, practice worksheets to assist with course examples\, and visual study guides for preparing for the board exam. \nYou must attend and participate in all classes to meet the 40-hour BACB Requirements for training certificate. \nAbout the Course:\nRegistered Behavior Technicians work in home-care environments\, in centers\, or in schools providing one-on-one therapy and behavioral assistance to those diagnosed with autism\, other developmental disabilities\, and behavioral disorders. They are responsible for implementing behavioral plans developed by Board Certified Behavior Analysts and collecting and charting data on the progress and improvement in the abilities of the clients they work with.\nThis course is advanced training that consists of 40 hours of in-person skills instruction provided by Board Certified Analysts with over 15 years of clinical and training experience.\nThe focus on the instruction will be on The Third Edition\, Registered Behavior Technician Task List\, published by the Behavior Analyst Certification Board (BACB). Instruction topics include: \n\nMeasurement\nAssessment\nSkill acquisition\nBehavior reduction\nDocumentation\, Reporting\, and Professional Conduct\nEthics\nScope of practice\n\nParticipants will not only learn terminology\, concepts\, and methods but will be continuously engaged in role playing scenarios to work towards application and skill competency. A small class instructor-to-participant ratio will allow participants to receive individualized attention and ongoing feedback. Participants will also receive practice examinations.\nThis course will prepare participants to take the Behavior Analyst Certification Board Registered Behavior Technician (RBT) exam but will not guarantee a successful passing of the exam. It will also include a mock competency assessment. Formal competency assessments required to obtain the RBT certification can only be conducted by the participant’s supervising behavior analyst.\nPlease contact Heather Burton\, Training Coordinator\, with any questions.
URL:https://arcbroward.com/event/registered-behavior-technician-course-40-hour-in-person-zoom-8/
LOCATION:Arc Broward\, 10250 NW 53 Street\, Sunrise\, FL\, 33351\, United States
CATEGORIES:Professional Training,Program Events,Registered Behavior Technician,Trainings
ORGANIZER;CN="Heather Burton":MAILTO:hburton@arcbroward.com
END:VEVENT
BEGIN:VEVENT
DTSTART;TZID=America/New_York:20250623T083000
DTEND;TZID=America/New_York:20250623T170000
DTSTAMP:20260419T081722
CREATED:20241119T191530Z
LAST-MODIFIED:20250618T135825Z
UID:10000278-1750667400-1750698000@arcbroward.com
SUMMARY:PCM Annual Recertification
DESCRIPTION:Event Summary\n\nThis intensive one day course fulfills the annual renewal requirements for currently certified PCM practitioners eligible for annual renewal. The course focuses on practice of the physical strategies taught in the initial PCM course and review of nonphysical strategies.\n\nTopics covered include:\n\nReview of non-physical PCM strategies\nPractice of physical PCM strategies
URL:https://arcbroward.com/event/pcm-annual-recertification-24/
LOCATION:Arc Broward\, 10250 NW 53 Street\, Sunrise\, FL\, 33351\, United States
CATEGORIES:Professional Crisis Management,Professional Training,Program Events,Trainings
ATTACH;FMTTYPE=image/png:https://arcbroward.com/wp-content/uploads/2023/10/unnamed.png
ORGANIZER;CN="Heather Burton":MAILTO:hburton@arcbroward.com
END:VEVENT
END:VCALENDAR