BEGIN:VCALENDAR
VERSION:2.0
PRODID:-//Arc Broward - ECPv6.15.20//NONSGML v1.0//EN
CALSCALE:GREGORIAN
METHOD:PUBLISH
X-WR-CALNAME:Arc Broward
X-ORIGINAL-URL:https://arcbroward.com
X-WR-CALDESC:Events for Arc Broward
REFRESH-INTERVAL;VALUE=DURATION:PT1H
X-Robots-Tag:noindex
X-PUBLISHED-TTL:PT1H
BEGIN:VTIMEZONE
TZID:America/New_York
BEGIN:DAYLIGHT
TZOFFSETFROM:-0500
TZOFFSETTO:-0400
TZNAME:EDT
DTSTART:20240310T070000
END:DAYLIGHT
BEGIN:STANDARD
TZOFFSETFROM:-0400
TZOFFSETTO:-0500
TZNAME:EST
DTSTART:20241103T060000
END:STANDARD
BEGIN:DAYLIGHT
TZOFFSETFROM:-0500
TZOFFSETTO:-0400
TZNAME:EDT
DTSTART:20250309T070000
END:DAYLIGHT
BEGIN:STANDARD
TZOFFSETFROM:-0400
TZOFFSETTO:-0500
TZNAME:EST
DTSTART:20251102T060000
END:STANDARD
BEGIN:DAYLIGHT
TZOFFSETFROM:-0500
TZOFFSETTO:-0400
TZNAME:EDT
DTSTART:20260308T070000
END:DAYLIGHT
BEGIN:STANDARD
TZOFFSETFROM:-0400
TZOFFSETTO:-0500
TZNAME:EST
DTSTART:20261101T060000
END:STANDARD
END:VTIMEZONE
BEGIN:VEVENT
DTSTART;TZID=America/New_York:20250503T083000
DTEND;TZID=America/New_York:20250503T170000
DTSTAMP:20260421T125222
CREATED:20250102T165119Z
LAST-MODIFIED:20250425T161938Z
UID:10000324-1746261000-1746291600@arcbroward.com
SUMMARY:Weekend Professional Crisis Management (PCM) Initial Training for Level 1 or 2
DESCRIPTION:Event Summary\n\nProfessional Crisis Management (PCM) offers a complete crisis management system made up of prevention\, de-escalation\, crisis intervention\, and reintegration that perfectly aligns with the core principles of Trauma Informed Care. This means PCM’s curriculum\, instruction\, guiding principles\, and procedures directly aid in fostering an environment characterized by safety\, trust\, peer support\, collaboration\, empowerment\, and respect. This 3-day training covers everything you need to become PCM certified as Level-1 practitioner or Level-2 practitioner. \nDates of Training:  May 3\, 4\, and 10 for Level 2\, and May 3 and 4 for Level 1\nProfessional Crisis Management Association (PCMA) used their experience as Clinicians to create the  ONLY training program that is FULLY based on  Applied Behavior Analysis!\n\n\n\n\n\n\n\n\n\n\n\nPractical\, Accessible Behavior Science\n\n\nCreate safe and positive learning environments\, even during a crisis.\n\n\n\nThe proven best choice for: \n\n\n\n\n\n\n\n\nEducation\nSpecial Education\nTreatment Facilities\nDay Treatment\n\n\n\n\n\n\n\n\nASD & ABA Clinics\nFoster Care\nICF’s\nJuvenile Justice\n\n\nThe following elements make Professional Crisis Management unique: \n\n Prevention Focused\nBased on true Behavior Science\nTrauma Informed\nPerfectly Aliened with PBIS
URL:https://arcbroward.com/event/weekend-professional-crisis-management-pcm-initial-training-for-level-1-or-2-2/
LOCATION:Arc Broward\, 10250 NW 53 Street\, Sunrise\, FL\, 33351\, United States
CATEGORIES:Professional Crisis Management,Professional Training,Program Events,Trainings
ATTACH;FMTTYPE=image/png:https://arcbroward.com/wp-content/uploads/2023/10/unnamed.png
ORGANIZER;CN="Heather Burton":MAILTO:hburton@arcbroward.com
END:VEVENT
BEGIN:VEVENT
DTSTART;TZID=America/New_York:20250507T090000
DTEND;TZID=America/New_York:20250507T110000
DTSTAMP:20260421T125222
CREATED:20241231T203844Z
LAST-MODIFIED:20241231T203844Z
UID:10000313-1746608400-1746615600@arcbroward.com
SUMMARY:Cultural Competency
DESCRIPTION:The goal of this training is to create awareness\, increase sensitivity\, and promote personal reflection of the importance of diversity competency (defined as the ability of individuals and systems to respond respectfully and effectively to individuals\, families and communities of all diverse backgrounds). This training increases awareness of the kinds of beliefs\, attitudes\, values\, and practices that promote diversity competency.
URL:https://arcbroward.com/event/cultural-competency-18/
LOCATION:Arc Broward\, 10250 NW 53 Street\, Sunrise\, FL\, 33351\, United States
CATEGORIES:Professional Crisis Management,Professional Training,Trainings
ATTACH;FMTTYPE=image/png:https://arcbroward.com/wp-content/uploads/2023/10/unnamed.png
ORGANIZER;CN="Heather Burton":MAILTO:hburton@arcbroward.com
END:VEVENT
BEGIN:VEVENT
DTSTART;TZID=America/New_York:20250507T130000
DTEND;TZID=America/New_York:20250507T160000
DTSTAMP:20260421T125222
CREATED:20241231T205837Z
LAST-MODIFIED:20241231T205837Z
UID:10000319-1746622800-1746633600@arcbroward.com
SUMMARY:Coaching the Van Driver –CVD
DESCRIPTION:Event Summary\n\nDriving accidents are the number one cause of accidental deaths in America. Drivers need to understand the dangers while driving the Florida roads and the difference between driving your personal vehicle and a van. This defensive driving workshop is endorsed by the National Safety Council and presented through video\, interactive discussion and lecture.\n If you or your organization has to transport individuals on the road\, this class is for you!\nTopics covered include:\n\nDefensive driving skills\nHow to prevent and avoid collisions\nTransporting passengers\nTips on van inspection\nReview documentation necessary to ensure continued safety of passengers\n\n* This is compliance training; therefore\, a road test is not included.
URL:https://arcbroward.com/event/coaching-the-van-driver-cvd-9/
LOCATION:Arc Broward\, 10250 NW 53 Street\, Sunrise\, FL\, 33351\, United States
CATEGORIES:Agency for Persons with Disabilities,Health & Safety Programs,Professional Training,Program Events,Trainings
ATTACH;FMTTYPE=image/png:https://arcbroward.com/wp-content/uploads/2023/10/unnamed.png
ORGANIZER;CN="Heather Burton":MAILTO:hburton@arcbroward.com
END:VEVENT
BEGIN:VEVENT
DTSTART;TZID=America/New_York:20250509T090000
DTEND;TZID=America/New_York:20250509T113000
DTSTAMP:20260421T125222
CREATED:20241231T192231Z
LAST-MODIFIED:20241231T192231Z
UID:10000307-1746781200-1746790200@arcbroward.com
SUMMARY:HIV/AIDS & BBP
DESCRIPTION:Event Summary\n\nDid you know Broward County has the most new diagnosed AIDS cases per day in ALL of America? With statistic like this\, it’s vital to get the most up to date information on HIV/AIDS and learn how to prevent and protect yourself. Topics Covered Include: \nASHI Modules \n\nOSHA Bloodborne Pathogens Standard\nSpecific Bloodborne Pathogens\nHepatitis B Immunization\nYour Company’s Exposure Control Plan\nTransmitting Bloodborne Pathogens\nMethods to Control the Risks of Exposure\nWhen an Exposure Occurs\nHousekeeping\n\nHIV/AIDS Florida Health Video \n\nImmunology\nTransmission\nTesting\nSymptoms\nPrevention
URL:https://arcbroward.com/event/hiv-aids-bbp-20/
LOCATION:Arc Broward\, 10250 NW 53 Street\, Sunrise\, FL\, 33351\, United States
CATEGORIES:Health & Safety Programs,Professional Training,Program Events,Trainings
ATTACH;FMTTYPE=image/png:https://arcbroward.com/wp-content/uploads/2023/10/unnamed.png
ORGANIZER;CN="Heather Burton":MAILTO:hburton@arcbroward.com
END:VEVENT
BEGIN:VEVENT
DTSTART;TZID=America/New_York:20250512T083000
DTEND;TZID=America/New_York:20250514T170000
DTSTAMP:20260421T125222
CREATED:20241119T184908Z
LAST-MODIFIED:20250430T161857Z
UID:10000270-1747038600-1747242000@arcbroward.com
SUMMARY:Professional Crisis Management (PCM) Initial 3 Day Training (Class is full-see June)
DESCRIPTION:Event Summary\n\nProfessional Crisis Management (PCM) offers a complete crisis management system made up of prevention\, de-escalation\, crisis intervention\, and reintegration that perfectly aligns with the core principles of Trauma Informed Care. This means PCM’s curriculum\, instruction\, guiding principles\, and procedures directly aid in fostering an environment characterized by safety\, trust\, peer support\, collaboration\, empowerment\, and respect. This 3-day training covers everything you need to become PCM certified as Practitioner Level\, Level-1 practitioner\, and Level-2 practitioner.  Just let the instructor know which level you would like to be certified in. \nProfessional Crisis Management Association (PCMA) used their experience as Clinicians to create the  ONLY training program that is FULLY based on  Applied Behavior Analysis!\n\n\n\n\n\n\n\n\n\n\n\nPractical\, Accessible Behavior Science\n\n\nCreate safe and positive learning environments\, even during a crisis.\n\n\n\nThe proven best choice for: \n\n\n\n\n\n\n\n\nEducation\nSpecial Education\nTreatment Facilities\nDay Treatment\n\n\n\n\n\n\n\n\nASD & ABA Clinics\nFoster Care\nICF’s\nJuvenile Justice\n\n\nThe following elements make Professional Crisis Management unique: \n\n Prevention Focused\nBased on true Behavior Science\nTrauma Informed\nPerfectly Aliened with PBIS
URL:https://arcbroward.com/event/professional-crisis-management-pcm-initial-3-day-training-10/
LOCATION:Arc Broward\, 10250 NW 53 Street\, Sunrise\, FL\, 33351\, United States
CATEGORIES:Professional Crisis Management,Professional Training,Program Events,Trainings
ATTACH;FMTTYPE=image/png:https://arcbroward.com/wp-content/uploads/2023/10/unnamed.png
ORGANIZER;CN="Heather Burton":MAILTO:hburton@arcbroward.com
END:VEVENT
BEGIN:VEVENT
DTSTART;TZID=America/New_York:20250516T090000
DTEND;TZID=America/New_York:20250516T120000
DTSTAMP:20260421T125222
CREATED:20241231T180904Z
LAST-MODIFIED:20241231T180904Z
UID:10000295-1747386000-1747396800@arcbroward.com
SUMMARY:CPR/AED by ASHI
DESCRIPTION:Event Summary\n\nKnowing CPR is a must for ALL! This hands-on course\, developed by the ASHI and updated by Health and Safety Institute (HSI)\, prepares participants to respond to cardiac and respiratory emergencies in adults\, children and infants. Participants are guided through an interactive video\, have class room instruction\, and practical application of procedures on appropriately sized manikins.
URL:https://arcbroward.com/event/cpr-aed-by-ashi-32/
LOCATION:Arc Broward\, 10250 NW 53 Street\, Sunrise\, FL\, 33351\, United States
CATEGORIES:Health & Safety Programs,Professional Training,Program Events,Trainings
ATTACH;FMTTYPE=image/png:https://arcbroward.com/wp-content/uploads/2023/10/unnamed.png
ORGANIZER;CN="Heather Burton":MAILTO:hburton@arcbroward.com
END:VEVENT
BEGIN:VEVENT
DTSTART;TZID=America/New_York:20250516T130000
DTEND;TZID=America/New_York:20250516T160000
DTSTAMP:20260421T125222
CREATED:20241231T182808Z
LAST-MODIFIED:20241231T182808Z
UID:10000301-1747400400-1747411200@arcbroward.com
SUMMARY:First Aid and Universal Precautions
DESCRIPTION:Event Summary\n\nThis intensive workshop is ideal for those who are employed in the healthcare industry or parents seeking additional information on how to respond to medical emergencies such as bleeding\, burns\, bites\, heart attacks\, stroke\, seizures\, etc. This workshop also covers universal precautions. \n5 Reasons Why You Should Learn First-Aid: \nHere are five reasons why you should learn first-aid: \n\n\n\nIt not only saves lives but saves recovery time. Giving proper first aid immediately can help to reduce a person’s recovery time.\nHelp increase comfort in a person who has been injured. By knowing how to act even just with simple techniques such as applying an ice pack correctly\, or applying appropriate bandaging\, you’ll help to relieve the discomfort in a person who has been injured.\nYou can prevent a situation from getting worse. By being able to provide basic care you can stabilize a person who has been injured until emergency services arrive (if the situation requires medical services).\nConfidence. First aid training makes you more confident and comfortable allowing you to be more effective when responding to a situation.\nSafe and healthy living. Keeping yourself safe puts you in a position to help others.
URL:https://arcbroward.com/event/first-aid-and-universal-precautions-20/
LOCATION:Arc Broward\, 10250 NW 53 Street\, Sunrise\, FL\, 33351\, United States
CATEGORIES:Health & Safety Programs,Professional Training,Program Events,Trainings
ATTACH;FMTTYPE=image/png:https://arcbroward.com/wp-content/uploads/2023/10/unnamed.png
ORGANIZER;CN="Heather Burton":MAILTO:hburton@arcbroward.com
END:VEVENT
BEGIN:VEVENT
DTSTART;TZID=America/New_York:20250519T083000
DTEND;TZID=America/New_York:20250519T170000
DTSTAMP:20260421T125222
CREATED:20241119T191418Z
LAST-MODIFIED:20241119T191418Z
UID:10000277-1747643400-1747674000@arcbroward.com
SUMMARY:PCM Annual Recertification
DESCRIPTION:Event Summary\n\nThis intensive one day course fulfills the annual renewal requirements for currently certified PCM practitioners eligible for annual renewal. The course focuses on practice of the physical strategies taught in the initial PCM course and review of nonphysical strategies.\n\nTopics covered include:\n\nReview of non-physical PCM strategies\nPractice of physical PCM strategies
URL:https://arcbroward.com/event/pcm-annual-recertification-23/
LOCATION:Arc Broward\, 10250 NW 53 Street\, Sunrise\, FL\, 33351\, United States
CATEGORIES:Professional Crisis Management,Professional Training,Program Events,Trainings
ATTACH;FMTTYPE=image/png:https://arcbroward.com/wp-content/uploads/2023/10/unnamed.png
ORGANIZER;CN="Heather Burton":MAILTO:hburton@arcbroward.com
END:VEVENT
BEGIN:VEVENT
DTSTART;TZID=America/New_York:20250523T090000
DTEND;TZID=America/New_York:20250523T150000
DTSTAMP:20260421T125222
CREATED:20241121T031100Z
LAST-MODIFIED:20250103T180013Z
UID:10000284-1747990800-1748012400@arcbroward.com
SUMMARY:ASHI Instructor Development Course (IDC) Blended Training
DESCRIPTION:Become a certified American Safety & Health Institute (ASHI) Instructor. We are offering a special class for those interested in becoming a certified ASHI Instructor to teach others the following courses: \n\nCPR and AED for Adults\, Children and Infants\nFirst Aid w/ Universal Precaution\nHIV/AIDS and Bloodborne Pathogens.\n\nThis is a Blended Learning course: The online information will be emailed to you from The Health and Safety Institution HSI/ASHI\, and must be successfully completed prior to the Face-to-Face class on May 23\, 2025 at 9:00AM to 3:00PM. \nRegistration is open until May 16\, 2025. \nArc Educates is now offering a Blended learning course for those who are interested in becoming a certified American Safety & Health Institute (ASHI) Instructor. After taking this course\, you will be certified to teach CPR and AED for Adults\, Children and Infants\, First Aid w/ Universal Precaution\, and HIV/AIDS and Bloodborne Pathogens. \nIn our upcoming class on 05/23/25\, each of you will need to show two essential skills: \n\nCPR – compression and rescue breath\nTeaching\n\nAs part of the assessment\, you’ll be preparing a 10-minute presentation. You can pick a topic from either CPR or First Aid\, and make sure to bring some materials for your presentation—whether it’s a PowerPoint\, whiteboard\, handouts\, or anything else. \n**The online portion MUST to be completed before the face-to-face portion of the training.  If not completed\, you will have to reschedule and pay the a $35.00 fee. \nTopics: \n\nASHI Instructor: Foundation and concepts of teaching skills; Roles and responsibilities of an instructor; Legal Issues and Ethics; Learning Environment and Learning; Styles/Domain of Learning; Presentation Skills\, and Facilitation Techniques\nASHI Specific Content: ASHI Training Center\, ASHI Programs Standards and Objectives; ASHI Materials and Equipment; ASHI Website
URL:https://arcbroward.com/event/ashi-instructor-development-course-idc-blended-training-3/
LOCATION:Arc Broward\, 10250 NW 53 Street\, Sunrise\, FL\, 33351\, United States
ATTACH;FMTTYPE=image/png:https://arcbroward.com/wp-content/uploads/2023/10/unnamed.png
ORGANIZER;CN="Heather Burton":MAILTO:hburton@arcbroward.com
END:VEVENT
BEGIN:VEVENT
DTSTART;TZID=America/New_York:20250530T093000
DTEND;TZID=America/New_York:20250530T140000
DTSTAMP:20260421T125222
CREATED:20241220T182832Z
LAST-MODIFIED:20241220T182832Z
UID:10000288-1748597400-1748613600@arcbroward.com
SUMMARY:APD Approved 4-hr In-Service: Participant Empowerment
DESCRIPTION:Focused Audience:  All in-service trainings are open to Waiver Support Coordinators\, Companions\, Personal Supports\, Residential Habilitation\, Supported Employment Coaches\, Adult Day\, and Behavior Assistants. \n4-hour In-Service: \nCourse Description \nYou will explore ways to build self-confidence and promote empowering relationships. \nClass Objectives \n1. Discuss the meaning of empowerment and the importance of empowering relationships  \n2. Discuss how to build self-confidence and reverse learned helplessness.  \n3. Demonstrate how to change negative self-talk into positive self-talk. \nNADSP Code of Ethics Skills  \n1. Recognizes support services\, related policies\, procedures that violate rights or pose challenges to the exercise of rights and offers suggestions to address.
URL:https://arcbroward.com/event/apd-approved-4-hr-in-service-participant-empowerment/
LOCATION:FL
END:VEVENT
END:VCALENDAR