BEGIN:VCALENDAR
VERSION:2.0
PRODID:-//Arc Broward - ECPv6.15.20//NONSGML v1.0//EN
CALSCALE:GREGORIAN
METHOD:PUBLISH
X-ORIGINAL-URL:https://arcbroward.com
X-WR-CALDESC:Events for Arc Broward
REFRESH-INTERVAL;VALUE=DURATION:PT1H
X-Robots-Tag:noindex
X-PUBLISHED-TTL:PT1H
BEGIN:VTIMEZONE
TZID:America/New_York
BEGIN:DAYLIGHT
TZOFFSETFROM:-0500
TZOFFSETTO:-0400
TZNAME:EDT
DTSTART:20250309T070000
END:DAYLIGHT
BEGIN:STANDARD
TZOFFSETFROM:-0400
TZOFFSETTO:-0500
TZNAME:EST
DTSTART:20251102T060000
END:STANDARD
BEGIN:DAYLIGHT
TZOFFSETFROM:-0500
TZOFFSETTO:-0400
TZNAME:EDT
DTSTART:20260308T070000
END:DAYLIGHT
BEGIN:STANDARD
TZOFFSETFROM:-0400
TZOFFSETTO:-0500
TZNAME:EST
DTSTART:20261101T060000
END:STANDARD
BEGIN:DAYLIGHT
TZOFFSETFROM:-0500
TZOFFSETTO:-0400
TZNAME:EDT
DTSTART:20270314T070000
END:DAYLIGHT
BEGIN:STANDARD
TZOFFSETFROM:-0400
TZOFFSETTO:-0500
TZNAME:EST
DTSTART:20271107T060000
END:STANDARD
END:VTIMEZONE
BEGIN:VEVENT
DTSTART;TZID=America/New_York:20260418T083000
DTEND;TZID=America/New_York:20260425T170000
DTSTAMP:20260422T041213
CREATED:20260317T141033Z
LAST-MODIFIED:20260417T154256Z
UID:10000440-1776501000-1777136400@arcbroward.com
SUMMARY:Weekend Professional Crisis Management (PCM) Initial Training for Level 1 or 2
DESCRIPTION:Event Summary\n\nProfessional Crisis Management (PCM) offers a complete crisis management system made up of prevention\, de-escalation\, crisis intervention\, and reintegration that perfectly aligns with the core principles of Trauma Informed Care. This means PCM’s curriculum\, instruction\, guiding principles\, and procedures directly aid in fostering an environment characterized by safety\, trust\, peer support\, collaboration\, empowerment\, and respect. This 3-day training covers everything you need to become PCM certified as Level-1 practitioner or Level-2 practitioner. \nTraining Dates:   \nLevel 1: April 18th – 19th \nLevel 2: April 18th\, 19th\, & 25th \nProfessional Crisis Management Association (PCMA) used their experience as Clinicians to create the ONLY training program that is FULLY based on Applied Behavior Analysis! \n\n\n\n\n\n\n\n\n\n\nPractical\, Accessible Behavior Science\nCreate safe and positive learning environments\, even during a crisis.\n\nThe proven best choice for: \n\n\n\n\n\n\nEducation\nSpecial Education\nTreatment Facilities\nDay Treatment\nASD & ABA Clinics\nFoster Care\nICF’s\nJuvenile Justice\n\n\n\n\n\n\n\nThe following elements make Professional Crisis Management unique: \n\n Prevention Focused\nBased on true Behavior Science\nTrauma Informed\nPerfectly Aliened with PBIS
URL:https://arcbroward.com/event/weekend-professional-crisis-management-pcm-initial-training-for-level-1-or-2-10/
LOCATION:Arc Broward\, 10250 NW 53 Street\, Sunrise\, FL\, 33351\, United States
CATEGORIES:Professional Crisis Management,Professional Training,Program Events,Trainings
ATTACH;FMTTYPE=image/png:https://arcbroward.com/wp-content/uploads/2023/10/unnamed.png
ORGANIZER;CN="Lashaon Machado-Brinson":MAILTO:lbrinson@arcbroward.com
END:VEVENT
BEGIN:VEVENT
DTSTART;TZID=America/New_York:20260424T090000
DTEND;TZID=America/New_York:20260424T120000
DTSTAMP:20260422T041213
CREATED:20260317T140331Z
LAST-MODIFIED:20260407T140931Z
UID:10000439-1777021200-1777032000@arcbroward.com
SUMMARY:CPR/AED by Health & Safety Institute (HSI)
DESCRIPTION:Event Summary\n\nKnowing CPR is a must for ALL! This hands-on course\, developed and updated by Health and Safety Institute (HSI)\, prepares participants to respond to cardiac and respiratory emergencies in adults\, children\, and infants. Participants are guided through an interactive video\, have class room instruction\, and practical application of procedures on appropriately sized manikins. \nTopics covered include:\n\n\nCPR for Adults\, Children\, Infants\nAED for Adults\, Children\, Infants\nRescuing a choking victim\n\n**Must be able to do the chest compressions and rescue breaths from a kneeling position on the floor\, and be able to compress the adult manikin greater than 2 inches.
URL:https://arcbroward.com/event/cpr-aed-by-health-safety-institute-hsi-12/
LOCATION:Arc Broward\, 10250 NW 53 Street\, Sunrise\, FL\, 33351\, United States
CATEGORIES:Health & Safety Programs,Professional Training,Program Events,Trainings
ATTACH;FMTTYPE=image/png:https://arcbroward.com/wp-content/uploads/2023/10/unnamed.png
ORGANIZER;CN="Lashaon Machado-Brinson":MAILTO:lbrinson@arcbroward.com
END:VEVENT
BEGIN:VEVENT
DTSTART;TZID=America/New_York:20260424T130000
DTEND;TZID=America/New_York:20260424T160000
DTSTAMP:20260422T041213
CREATED:20260317T140234Z
LAST-MODIFIED:20260317T140234Z
UID:10000438-1777035600-1777046400@arcbroward.com
SUMMARY:First Aid and Universal Precautions by Health and Safety Institute (HSI)
DESCRIPTION:Event Summary\n\nThis intensive workshop is ideal for those who are employed in the healthcare industry or parents seeking additional information on how to respond to medical emergencies such as bleeding\, burns\, bites\, heart attacks\, stroke\, seizures\, etc. This workshop also covers universal precautions. \n5 Reasons Why You Should Learn First-Aid: \nHere are five reasons why you should learn first-aid: \n\n\n\nIt not only saves lives but saves recovery time. Giving proper first aid immediately can help to reduce a person’s recovery time.\nHelp increase comfort in a person who has been injured. By knowing how to act even just with simple techniques such as applying an ice pack correctly\, or applying appropriate bandaging\, you’ll help to relieve the discomfort in a person who has been injured.\nYou can prevent a situation from getting worse. By being able to provide basic care you can stabilize a person who has been injured until emergency services arrive (if the situation requires medical services).\nConfidence. First aid training makes you more confident and comfortable allowing you to be more effective when responding to a situation.\nSafe and healthy living. Keeping yourself safe puts you in a position to help others.
URL:https://arcbroward.com/event/first-aid-and-universal-precautions-by-health-and-safety-institute-hsi-11/
LOCATION:Arc Broward\, 10250 NW 53 Street\, Sunrise\, FL\, 33351\, United States
CATEGORIES:Health & Safety Programs,Professional Training,Program Events,Trainings
ATTACH;FMTTYPE=image/png:https://arcbroward.com/wp-content/uploads/2023/10/unnamed.png
ORGANIZER;CN="Lashaon Machado-Brinson":MAILTO:lbrinson@arcbroward.com
END:VEVENT
END:VCALENDAR