BEGIN:VCALENDAR
VERSION:2.0
PRODID:-//Arc Broward - ECPv6.15.20//NONSGML v1.0//EN
CALSCALE:GREGORIAN
METHOD:PUBLISH
X-ORIGINAL-URL:https://arcbroward.com
X-WR-CALDESC:Events for Arc Broward
REFRESH-INTERVAL;VALUE=DURATION:PT1H
X-Robots-Tag:noindex
X-PUBLISHED-TTL:PT1H
BEGIN:VTIMEZONE
TZID:America/New_York
BEGIN:DAYLIGHT
TZOFFSETFROM:-0500
TZOFFSETTO:-0400
TZNAME:EDT
DTSTART:20250309T070000
END:DAYLIGHT
BEGIN:STANDARD
TZOFFSETFROM:-0400
TZOFFSETTO:-0500
TZNAME:EST
DTSTART:20251102T060000
END:STANDARD
BEGIN:DAYLIGHT
TZOFFSETFROM:-0500
TZOFFSETTO:-0400
TZNAME:EDT
DTSTART:20260308T070000
END:DAYLIGHT
BEGIN:STANDARD
TZOFFSETFROM:-0400
TZOFFSETTO:-0500
TZNAME:EST
DTSTART:20261101T060000
END:STANDARD
BEGIN:DAYLIGHT
TZOFFSETFROM:-0500
TZOFFSETTO:-0400
TZNAME:EDT
DTSTART:20270314T070000
END:DAYLIGHT
BEGIN:STANDARD
TZOFFSETFROM:-0400
TZOFFSETTO:-0500
TZNAME:EST
DTSTART:20271107T060000
END:STANDARD
END:VTIMEZONE
BEGIN:VEVENT
DTSTART;TZID=America/New_York:20260207T090000
DTEND;TZID=America/New_York:20260207T161500
DTSTAMP:20260419T093436
CREATED:20251030T164811Z
LAST-MODIFIED:20260126T160909Z
UID:10000404-1770454800-1770480900@arcbroward.com
SUMMARY:Intro to Applied Behavior Analysis Course 20-Hour
DESCRIPTION:Course Summary\n\nSchedule\nDates: Three (3) consecutive Saturdays — February 7\, 14\, & 21 \nTime: 9:00 AM – 4:15 PM (includes a working lunch) \nFormat: Attend In-person or on Zoom \nAttendance: Full participation in all sessions is required to meet the 20-hour APD training requirements. \n\nRegistration Cost: $200\nIncludes:\n\nLecture Notes\nPractice Worksheets\nVisual Study Guides\nCertificate of Completion (The participant is responsible for ensuring they receive ongoing supervision of a qualified behavior analyst supervisor – as deemed by APD)\n\n\nAbout the Course\nThis 20-hour introductory course in Applied Behavior Analysis (ABA) meets the Agency for Persons with Disabilities (APD) requirements for Behavior Assistants. \nLed by Board Certified Behavior Analysts (BCBAs) with clinical and training experience\, instruction is delivered over three consecutive Saturdays\, available in person or live via Zoom. \nThis training is ideal for: \n\nIndividuals working as Behavior Assistants seeking APD certification\nDirect support professionals\, teachers\, therapists\, and caregivers who want to strengthen their ABA knowledge\n\nWhat You’ll Learn\nThis course focuses on understanding and applying key ABA principles\, including how to: \n\nIdentify and respond appropriately to behaviors\nUse proactive strategies to prevent problem behaviors\nTeach adaptive and functional skills to individuals and groups\nUnderstand the role of a Behavior Assistant as a paraprofessional in ABA services\nApply evidence-based interventions and technologies\nBuild effective relationships through reinforcement and pairing\n\n  \nNote: \n\nSmall class sizes ensure personalized instruction and individual feedback from experienced trainers.\nAfter completing this 20-hour course\, participants can continue for three additional Saturdays to complete the 40-hour Registered Behavior Technician (RBT) training—a seamless next step to deepen your skills. (Continuation applies only within the same cohort and is not transferable.)\n\n\n📞 Questions?\nContact Lashaon Machado-Brinson\, Training & Development Coordinator at 954-746-9400 for additional information or registration assistance.
URL:https://arcbroward.com/event/20-hour-intro-to-applied-behavior-analysis-aba-course-zoom-or-in-person-2/
LOCATION:Arc Broward\, 10250 NW 53 Street\, Sunrise\, FL\, 33351\, United States
CATEGORIES:Professional Training
ORGANIZER;CN="Lashaon Machado-Brinson":MAILTO:lbrinson@arcbroward.com
END:VEVENT
END:VCALENDAR